BEGIN:VCALENDAR
VERSION:2.0
PRODID:-//jEvents 2.0 for Joomla//EN
CALSCALE:GREGORIAN
METHOD:PUBLISH
BEGIN:VTIMEZONE
TZID:Europe/Berlin
BEGIN:STANDARD
DTSTART:20231029T020000
RDATE:20240331T030000
TZOFFSETFROM:+0200
TZOFFSETTO:+0100
TZNAME:Europe/Berlin CET
END:STANDARD
BEGIN:STANDARD
DTSTART:20241027T020000
RDATE:20250330T030000
TZOFFSETFROM:+0200
TZOFFSETTO:+0100
TZNAME:Europe/Berlin CET
END:STANDARD
BEGIN:STANDARD
DTSTART:20251026T020000
RDATE:20260329T030000
TZOFFSETFROM:+0200
TZOFFSETTO:+0100
TZNAME:Europe/Berlin CET
END:STANDARD
BEGIN:STANDARD
DTSTART:20261025T020000
RDATE:20270328T030000
TZOFFSETFROM:+0200
TZOFFSETTO:+0100
TZNAME:Europe/Berlin CET
END:STANDARD
BEGIN:STANDARD
DTSTART:20271031T020000
RDATE:20280326T030000
TZOFFSETFROM:+0200
TZOFFSETTO:+0100
TZNAME:Europe/Berlin CET
END:STANDARD
BEGIN:STANDARD
DTSTART:20281029T020000
RDATE:20290325T030000
TZOFFSETFROM:+0200
TZOFFSETTO:+0100
TZNAME:Europe/Berlin CET
END:STANDARD
BEGIN:DAYLIGHT
DTSTART:20230427T110000
RDATE:20231029T020000
TZOFFSETFROM:+0100
TZOFFSETTO:+0200
TZNAME:Europe/Berlin CEST
END:DAYLIGHT
BEGIN:DAYLIGHT
DTSTART:20240331T030000
RDATE:20241027T020000
TZOFFSETFROM:+0100
TZOFFSETTO:+0200
TZNAME:Europe/Berlin CEST
END:DAYLIGHT
BEGIN:DAYLIGHT
DTSTART:20250330T030000
RDATE:20251026T020000
TZOFFSETFROM:+0100
TZOFFSETTO:+0200
TZNAME:Europe/Berlin CEST
END:DAYLIGHT
BEGIN:DAYLIGHT
DTSTART:20260329T030000
RDATE:20261025T020000
TZOFFSETFROM:+0100
TZOFFSETTO:+0200
TZNAME:Europe/Berlin CEST
END:DAYLIGHT
BEGIN:DAYLIGHT
DTSTART:20270328T030000
RDATE:20271031T020000
TZOFFSETFROM:+0100
TZOFFSETTO:+0200
TZNAME:Europe/Berlin CEST
END:DAYLIGHT
BEGIN:DAYLIGHT
DTSTART:20280326T030000
RDATE:20281029T020000
TZOFFSETFROM:+0100
TZOFFSETTO:+0200
TZNAME:Europe/Berlin CEST
END:DAYLIGHT
END:VTIMEZONE
BEGIN:VEVENT
UID:78f407bfc10f993efc64381ee844cd59
CATEGORIES:Kletterturm Thüringer Bahnhof
CREATED:20240324T165835
SUMMARY:Schnuppertag Klettern
DESCRIPTION:Der Kletterverein IG Klettern Halle/Löbejün e.V. bietet schon seit vielen J
 ahren\nKletterkurse für Kinder und Jugendliche an. Klettern und Bouldern is
 t eine Sportart, die\nfür junge Menschen mit Einschränkungen besondere Hera
 usforderungen bietet. Diesen\nwollen wir uns gemeinsam stellen. Beim Klette
 rn lernen wir mehr über die\nMöglichkeiten und Grenzen unseres Körpers kenn
 en und bauen Vertrauen in unsere\nFähigkeiten auf. Gemeinsam möchten wir mi
 t euch diese Erfahrungen bei einem\nSchnuppertag Klettern am 27.04.2024 sam
 meln. Kommt vorbei und probiert euch an\nder Kletterwand aus. Es sind keine
  Vorerfahrungen nötig und für jeden ist etwas dabei.\nDie Trainer*innen von
  der IG Klettern Halle/Löbejün e.V. helfen euch an diesem Tag rund\num die 
 Uhr.
X-ALT-DESC;FMTTYPE=text/html:Der Kletterverein IG Klettern Halle/Löbejün e.V. bietet schon seit vielen J
 ahren<br />Kletterkurse für Kinder und Jugendliche an. Klettern und Boulder
 n ist eine Sportart, die<br />für junge Menschen mit Einschränkungen besond
 ere Herausforderungen bietet. Diesen<br />wollen wir uns gemeinsam stellen.
  Beim Klettern lernen wir mehr über die<br />Möglichkeiten und Grenzen unse
 res Körpers kennen und bauen Vertrauen in unsere<br />Fähigkeiten auf. Geme
 insam möchten wir mit euch diese Erfahrungen bei einem<br />Schnuppertag Kl
 ettern am 27.04.2024 sammeln. Kommt vorbei und probiert euch an<br />der Kl
 etterwand aus. Es sind keine Vorerfahrungen nötig und für jeden ist etwas d
 abei.<br />Die Trainer*innen von der IG Klettern Halle/Löbejün e.V. helfen 
 euch an diesem Tag rund<br />um die Uhr.
DTSTAMP:20260422T104244
DTSTART;TZID=Europe/Berlin:20240427T110000
DTEND;TZID=Europe/Berlin:20240427T150000
SEQUENCE:0
TRANSP:OPAQUE
END:VEVENT
END:VCALENDAR